BEGIN:VCALENDAR
VERSION:2.0
PRODID:Events Booking
BEGIN:VEVENT
UID:69ea251728a36
SUMMARY:2026 YKAA Summer Camp
DESCRIPTION:The Young Korean American Academy 2026 Summer CampMy Story\, Yo
 ur Story\, and Korean HistoryECHO-Korea
 K-Culture Time Machine: Korean A
 merican Heritage Expedition
 K-컬처 타임머신: 재미한인 유산 
 탐험대
 Aug 3 ~ 5 (Mon-Wed) 2026
 770 Lucerne Dr.\, Sunnyvale\, CA 94
 085
LOCATION:산호세한인장로교회(SJKPC)\, 770 Lucerne Dr.\, Sunnyvale\,
  CA 94085
DTSTART:20260803T180000Z
DTEND:20260806T000000Z
DTSTAMP:20260423T075639Z
ORGANIZER;CN=ECHO-Korea:MAILTO:register@echo-korea.org
GEO:37.379477;-122.01465
X-APPLE-STRUCTURED-LOCATION;VALUE=URI;X-ADDRESS=산호세한인장로교회
 (SJKPC)\, 770 Lucerne Dr.\, Sunnyvale\, CA 94085;X-APPLE-RADIUS=72;X-TITLE
 =SJKPC:37.379477;-122.01465
END:VEVENT
END:VCALENDAR