BEGIN:VCALENDAR
VERSION:2.0
PRODID:Events Booking
BEGIN:VEVENT
UID:69ea4ebb64fc0
SUMMARY:2016 YKAA Summer Camp
DESCRIPTION:2016 YKAA Summer CampMy Story\, Your Story\, and Korean History
 ECHO-Korea
 역할극으로 배우는 한국 역사 인물(Walking with t
 he Korean Heroes)
 Aug 1-4 (Mon-Thu)\, 2016
 770 Lucerne Dr.\, Sunnyvale
 \, CA 94085
LOCATION:산호세한인장로교회(SJKPC)\, 770 Lucerne Dr.\, Sunnyvale\,
  CA 94085
DTSTART:20160801T200000Z
DTEND:20160805T000000Z
DTSTAMP:20260423T105419Z
ORGANIZER;CN=ECHO-Korea:MAILTO:register@echo-korea.org
GEO:37.379477;-122.01465
X-APPLE-STRUCTURED-LOCATION;VALUE=URI;X-ADDRESS=산호세한인장로교회
 (SJKPC)\, 770 Lucerne Dr.\, Sunnyvale\, CA 94085;X-APPLE-RADIUS=72;X-TITLE
 =SJKPC:37.379477;-122.01465
END:VEVENT
END:VCALENDAR