BEGIN:VCALENDAR
VERSION:2.0
PRODID:Events Booking
BEGIN:VEVENT
UID:69ea4ebc7b9f5
SUMMARY:2017 YKAA Summer Camp
DESCRIPTION:2017 YKAA Summer CampMy Story\, Your Story\, and Korean History
 ECHO-Korea
 활동으로 배우는 미국 학교에서의 한국 역사 
 문화(Korean History and Culture in the California School Curriculum)
 J
 uly 31 - Aug 3 (Mon-Thu)\, 2017
 770 Lucerne Dr.\, Sunnyvale\, CA 94085
LOCATION:산호세한인장로교회(SJKPC)\, 770 Lucerne Dr.\, Sunnyvale\,
  CA 94085
DTSTART:20170731T180000Z
DTEND:20170804T000000Z
DTSTAMP:20260423T105420Z
ORGANIZER;CN=ECHO-Korea:MAILTO:register@echo-korea.org
GEO:37.379477;-122.01465
X-APPLE-STRUCTURED-LOCATION;VALUE=URI;X-ADDRESS=산호세한인장로교회
 (SJKPC)\, 770 Lucerne Dr.\, Sunnyvale\, CA 94085;X-APPLE-RADIUS=72;X-TITLE
 =SJKPC:37.379477;-122.01465
END:VEVENT
END:VCALENDAR