BEGIN:VCALENDAR
VERSION:2.0
PRODID:Events Booking
BEGIN:VEVENT
UID:69ea4ebb83367
SUMMARY:2018 YKAA Summer Camp
DESCRIPTION:2018 YKAA Summer CampMy Story\, Your Story\, and Korean History
 ECHO-Korea
 미국 학교에서 배울 한국 역사 문화(Korean Histor
 y and Culture in the California School Curriculum II)
 August 6 ~ 9 (Mon
 -Thu)\, 2018
 770 Lucerne Dr.\, Sunnyvale\, CA 94085
LOCATION:산호세한인장로교회(SJKPC)\, 770 Lucerne Dr.\, Sunnyvale\,
  CA 94085
DTSTART:20180806T180000Z
DTEND:20180810T000000Z
DTSTAMP:20260423T105419Z
ORGANIZER;CN=ECHO-Korea:MAILTO:register@echo-korea.org
GEO:37.379477;-122.01465
X-APPLE-STRUCTURED-LOCATION;VALUE=URI;X-ADDRESS=산호세한인장로교회
 (SJKPC)\, 770 Lucerne Dr.\, Sunnyvale\, CA 94085;X-APPLE-RADIUS=72;X-TITLE
 =SJKPC:37.379477;-122.01465
END:VEVENT
END:VCALENDAR