BEGIN:VCALENDAR
VERSION:2.0
PRODID:Events Booking
BEGIN:VEVENT
UID:69ea4ebabccb2
SUMMARY:2019 YKAA Summer Camp
DESCRIPTION:2019 The Young Korean American Academy Summer CampMy Story\, Yo
 ur Story\, and Korean HistoryECHO-Korea
 삼일운동 백주년과 재미
  한인의 역사(The Centennial of the Korean Independence Movement &amp\
 ; Korean Americans)
 August 5 ~ 8 (Mon-Thu)\, 2019
 770 Lucerne Dr.\, Su
 nnyvale\, CA 94085
LOCATION:산호세한인장로교회(SJKPC)\, 770 Lucerne Dr.\, Sunnyvale\,
  CA 94085
DTSTART:20190805T180000Z
DTEND:20190809T000000Z
DTSTAMP:20260423T105418Z
ORGANIZER;CN=ECHO-Korea:MAILTO:register@echo-korea.org
GEO:37.379477;-122.01465
X-APPLE-STRUCTURED-LOCATION;VALUE=URI;X-ADDRESS=산호세한인장로교회
 (SJKPC)\, 770 Lucerne Dr.\, Sunnyvale\, CA 94085;X-APPLE-RADIUS=72;X-TITLE
 =SJKPC:37.379477;-122.01465
END:VEVENT
END:VCALENDAR