BEGIN:VCALENDAR
VERSION:2.0
PRODID:Events Booking
BEGIN:VEVENT
UID:69ea4ebabcd79
SUMMARY:2020 YKAA Summer Camp
DESCRIPTION:2020 The Young Korean American Academy Summer CampMy Story\, Yo
 ur Story\, and Korean HistoryECHO-Korea
 Koreans Around the World
 전 
 세계 곳곳의 한국인
 August 3 ~ 6 (Mon-Thu)\, 2020
 Online Video 
 Classes
DTSTART:20200803T180000Z
DTEND:20200806T194000Z
DTSTAMP:20260423T105418Z
ORGANIZER;CN=ECHO-Korea:MAILTO:register@echo-korea.org
END:VEVENT
END:VCALENDAR