BEGIN:VCALENDAR
VERSION:2.0
PRODID:Events Booking
BEGIN:VEVENT
UID:69ea3ae2ac69f
SUMMARY:2021 YKAA Summer Camp
DESCRIPTION:2021 The Young Korean American Academy Summer CampMy Story\, Yo
 ur Story\, and Korean HistoryECHO-Korea
 Discovering Korea Through Media:
 The Impact of Korean People and Culture
 내가 찾은 한국\, 한국인
 \, 한국문화
 July 26 ~ 29 (Mon-Thu)\, 2021
 Online Video Classes
DTSTART:20210726T170000Z
DTEND:20210729T193000Z
DTSTAMP:20260423T092938Z
ORGANIZER;CN=ECHO-Korea:MAILTO:register@echo-korea.org
END:VEVENT
END:VCALENDAR