BEGIN:VCALENDAR
VERSION:2.0
PRODID:Events Booking
BEGIN:VEVENT
UID:69ea3ae26bf4b
SUMMARY:2022 YKAA Summer Camp
DESCRIPTION:The Young Korean American Academy 2022 Summer CampMy Story\, Yo
 ur Story\, and Korean HistoryECHO-Korea
 Explore Korean American Style
 
 코리안 아메리칸 스타일을 찾아라
 Aug 8 ~ 10 (Mon-Wed)\, Aug
  13 (Sat)\, 2022
 770 Lucerne Dr.\, Sunnyvale\, CA 94085
LOCATION:산호세한인장로교회(SJKPC)\, 770 Lucerne Dr.\, Sunnyvale\,
  CA 94085
DTSTART:20220808T180000Z
DTEND:20220814T000000Z
DTSTAMP:20260423T092938Z
ORGANIZER;CN=ECHO-Korea:MAILTO:register@echo-korea.org
GEO:37.379477;-122.01465
X-APPLE-STRUCTURED-LOCATION;VALUE=URI;X-ADDRESS=산호세한인장로교회
 (SJKPC)\, 770 Lucerne Dr.\, Sunnyvale\, CA 94085;X-APPLE-RADIUS=72;X-TITLE
 =SJKPC:37.379477;-122.01465
END:VEVENT
END:VCALENDAR