BEGIN:VCALENDAR
VERSION:2.0
PRODID:Events Booking
BEGIN:VEVENT
UID:69ea3ae168655
SUMMARY:2023 YKAA Summer Camp
DESCRIPTION:The Young Korean American Academy 2023 Summer CampMy Story\, Yo
 ur Story\, and Korean HistoryECHO-Korea
 The Global Rise of Korea!
 세
 계 속에 한국이 뜬다
 Jul 24 ~ 26 (Mon-Wed)\, Jul 29 (Sat)\, 2023
 
 770 Lucerne Dr.\, Sunnyvale\, CA 94085
LOCATION:산호세한인장로교회(SJKPC)\, 770 Lucerne Dr.\, Sunnyvale\,
  CA 94085
DTSTART:20230724T180000Z
DTEND:20230730T000000Z
DTSTAMP:20260423T092937Z
ORGANIZER;CN=ECHO-Korea:MAILTO:register@echo-korea.org
GEO:37.379477;-122.01465
X-APPLE-STRUCTURED-LOCATION;VALUE=URI;X-ADDRESS=산호세한인장로교회
 (SJKPC)\, 770 Lucerne Dr.\, Sunnyvale\, CA 94085;X-APPLE-RADIUS=72;X-TITLE
 =SJKPC:37.379477;-122.01465
END:VEVENT
END:VCALENDAR