BEGIN:VCALENDAR
VERSION:2.0
PRODID:Events Booking
BEGIN:VEVENT
UID:69ea3ae26d630
SUMMARY:2024 YKAA Summer Camp
DESCRIPTION:The Young Korean American Academy 2024 Summer CampMy Story\, Yo
 ur Story\, and Korean HistoryECHO-Korea
 From Bibimbap to Me: Navigating 
 Korea in the U.S.
 비빔밥과 샐러드 볼: 코리안 아메리칸 이
 야기
 Jul 24 ~ 26 (Wed-Fri) 2024
 770 Lucerne Dr.\, Sunnyvale\, CA 940
 85
LOCATION:산호세한인장로교회(SJKPC)\, 770 Lucerne Dr.\, Sunnyvale\,
  CA 94085
DTSTART:20240724T180000Z
DTEND:20240727T000000Z
DTSTAMP:20260423T092938Z
ORGANIZER;CN=ECHO-Korea:MAILTO:register@echo-korea.org
GEO:37.379477;-122.01465
X-APPLE-STRUCTURED-LOCATION;VALUE=URI;X-ADDRESS=산호세한인장로교회
 (SJKPC)\, 770 Lucerne Dr.\, Sunnyvale\, CA 94085;X-APPLE-RADIUS=72;X-TITLE
 =SJKPC:37.379477;-122.01465
END:VEVENT
END:VCALENDAR