BEGIN:VCALENDAR
VERSION:2.0
PRODID:Events Booking
BEGIN:VEVENT
UID:69ea3ae122d6f
SUMMARY:2025 YKAA Summer Camp
DESCRIPTION:The Young Korean American Academy 2025 Summer CampMy Story\, Yo
 ur Story\, and Korean HistoryECHO-Korea
 Bridging Two Worlds: Our Journey
  in Korean American History
 우리가 열어가는 재미한인의 역
 사
 Aug 4 ~ 6 (Mon-Wed) 2025
 770 Lucerne Dr.\, Sunnyvale\, CA 94085
LOCATION:산호세한인장로교회(SJKPC)\, 770 Lucerne Dr.\, Sunnyvale\,
  CA 94085
DTSTART:20250804T180000Z
DTEND:20250807T000000Z
DTSTAMP:20260423T092937Z
ORGANIZER;CN=ECHO-Korea:MAILTO:register@echo-korea.org
GEO:37.379477;-122.01465
X-APPLE-STRUCTURED-LOCATION;VALUE=URI;X-ADDRESS=산호세한인장로교회
 (SJKPC)\, 770 Lucerne Dr.\, Sunnyvale\, CA 94085;X-APPLE-RADIUS=72;X-TITLE
 =SJKPC:37.379477;-122.01465
END:VEVENT
END:VCALENDAR